BEGIN:VCALENDAR
VERSION:2.0
PRODID:-//Stakeholders - ECPv6.15.20//NONSGML v1.0//EN
CALSCALE:GREGORIAN
METHOD:PUBLISH
X-ORIGINAL-URL:https://thestakeholders.org
X-WR-CALDESC:Events for Stakeholders
REFRESH-INTERVAL;VALUE=DURATION:PT1H
X-Robots-Tag:noindex
X-PUBLISHED-TTL:PT1H
BEGIN:VTIMEZONE
TZID:America/New_York
BEGIN:DAYLIGHT
TZOFFSETFROM:-0500
TZOFFSETTO:-0400
TZNAME:EDT
DTSTART:20240310T070000
END:DAYLIGHT
BEGIN:STANDARD
TZOFFSETFROM:-0400
TZOFFSETTO:-0500
TZNAME:EST
DTSTART:20241103T060000
END:STANDARD
BEGIN:DAYLIGHT
TZOFFSETFROM:-0500
TZOFFSETTO:-0400
TZNAME:EDT
DTSTART:20250309T070000
END:DAYLIGHT
BEGIN:STANDARD
TZOFFSETFROM:-0400
TZOFFSETTO:-0500
TZNAME:EST
DTSTART:20251102T060000
END:STANDARD
BEGIN:DAYLIGHT
TZOFFSETFROM:-0500
TZOFFSETTO:-0400
TZNAME:EDT
DTSTART:20260308T070000
END:DAYLIGHT
BEGIN:STANDARD
TZOFFSETFROM:-0400
TZOFFSETTO:-0500
TZNAME:EST
DTSTART:20261101T060000
END:STANDARD
END:VTIMEZONE
BEGIN:VEVENT
DTSTART;TZID=America/New_York:20250828T110000
DTEND;TZID=America/New_York:20250828T183000
DTSTAMP:20260421T114358
CREATED:20250717T183602Z
LAST-MODIFIED:20250717T183727Z
UID:296-1756378800-1756405800@thestakeholders.org
SUMMARY:13th Annual Stakeholders Golf Classic
DESCRIPTION:Thursday\, August 28 · 11 am – 6:30 pm EDT \nNormanside Country Club\n155 Salisbury Rd Delmar\, NY 12054 \nBuy Tickets
URL:https://thestakeholders.org/event/13th-annual-stakeholders-golf-classic/
LOCATION:Normanside\, 150 Salisbury Rd\, Delmar\, NY\, 12054\, United States
CATEGORIES:Event
ATTACH;FMTTYPE=image/jpeg:https://thestakeholders.org/wp-content/uploads/2025/07/stakeholders-golf-scaled.jpg
END:VEVENT
END:VCALENDAR